BEGIN:VCALENDAR
VERSION:2.0
PRODID:-//Rotary Club of San Pablo City - ECPv6.2.7//NONSGML v1.0//EN
CALSCALE:GREGORIAN
METHOD:PUBLISH
X-WR-CALNAME:Rotary Club of San Pablo City
X-ORIGINAL-URL:https://rotaryspc3820.org
X-WR-CALDESC:Events for Rotary Club of San Pablo City
REFRESH-INTERVAL;VALUE=DURATION:PT1H
X-Robots-Tag:noindex
X-PUBLISHED-TTL:PT1H
BEGIN:VTIMEZONE
TZID:UTC
BEGIN:STANDARD
TZOFFSETFROM:+0000
TZOFFSETTO:+0000
TZNAME:UTC
DTSTART:20220101T000000
END:STANDARD
END:VTIMEZONE
BEGIN:VEVENT
DTSTART;TZID=UTC:20221207T100000
DTEND;TZID=UTC:20221207T120000
DTSTAMP:20260420T142602
CREATED:20221207T100006Z
LAST-MODIFIED:20221231T072221Z
UID:1599-1670407200-1670414400@rotaryspc3820.org
SUMMARY:Eyeglasses Turn-over Ceremony
DESCRIPTION:A gift for a health eyes will be an early Christmas gift for school children of this year’s project  to San Cristobal Elementary School in San Pablo City\, Laguna. The project is in partnership between RC of San Pablo City and Geongju West of South Korea and donated  hundred of eye glasses to children diagnose with eye problem. This project is under the Disease Prevention and Treatment Area of Focus of the Rotary Club.  Vitamin drops will also be distributed to children during the event
URL:https://rotaryspc3820.org/event/eyeglasses-turn-over-ceremony/
LOCATION:San Cristobal Elementary School\, San Cristobal\, San Pablo City\, Laguna\, 4000\, Philippines
CATEGORIES:donation,project
ATTACH;FMTTYPE=image/jpeg:https://rotaryspc3820.org/wp-content/uploads/2022/12/319831708_556836683124322_1750660897478826309_n.jpeg
END:VEVENT
END:VCALENDAR