BEGIN:VCALENDAR
VERSION:2.0
PRODID:-//Rotary Club of San Pablo City - ECPv6.2.7//NONSGML v1.0//EN
CALSCALE:GREGORIAN
METHOD:PUBLISH
X-WR-CALNAME:Rotary Club of San Pablo City
X-ORIGINAL-URL:https://rotaryspc3820.org
X-WR-CALDESC:Events for Rotary Club of San Pablo City
REFRESH-INTERVAL;VALUE=DURATION:PT1H
X-Robots-Tag:noindex
X-PUBLISHED-TTL:PT1H
BEGIN:VTIMEZONE
TZID:UTC
BEGIN:STANDARD
TZOFFSETFROM:+0000
TZOFFSETTO:+0000
TZNAME:UTC
DTSTART:20220101T000000
END:STANDARD
END:VTIMEZONE
BEGIN:VEVENT
DTSTART;TZID=UTC:20221204T180000
DTEND;TZID=UTC:20221204T230000
DTSTAMP:20260420T041731
CREATED:20221204T060053Z
LAST-MODIFIED:20221231T072901Z
UID:1607-1670176800-1670194800@rotaryspc3820.org
SUMMARY:Christmas Party 2022
DESCRIPTION:A night of solidarity\, music and games awaits everyone for this year’s  Christmas Party celebration. Rotarians and Rotaractors will be presenting special number and the usual exchange gift are expected during the event. Special thanks to Dir Boying Aliazas who will be hosting the party at their residence.
URL:https://rotaryspc3820.org/event/christmas-party-2022/
LOCATION:San Juan\, San Pablo City\, San Juan\, San Pablo City\, Laguna\, 4000\, Philippines
CATEGORIES:party
ATTACH;FMTTYPE=image/jpeg:https://rotaryspc3820.org/wp-content/uploads/2022/12/318519950_677587853975191_6008137346634061204_n.jpeg
END:VEVENT
BEGIN:VEVENT
DTSTART;TZID=UTC:20221119T080000
DTEND;TZID=UTC:20221121T100000
DTSTAMP:20260420T041731
CREATED:20221106T152159Z
LAST-MODIFIED:20221231T070718Z
UID:573-1668844800-1669024800@rotaryspc3820.org
SUMMARY:Patnanugan Island Occular Visit
DESCRIPTION:A proposed medical mission occular visit to assess the situation on the island
URL:https://rotaryspc3820.org/event/patnanugan-island-occular-visit/
LOCATION:Patnanungan Island\, patnanungan Island\, Quezob\, Philippines
ATTACH;FMTTYPE=image/jpeg:https://rotaryspc3820.org/wp-content/uploads/2022/11/patnanungan.jpeg
END:VEVENT
BEGIN:VEVENT
DTSTART;TZID=UTC:20221016T070000
DTEND;TZID=UTC:20221016T120000
DTSTAMP:20260420T041731
CREATED:20221106T144136Z
LAST-MODIFIED:20221231T070814Z
UID:563-1665903600-1665921600@rotaryspc3820.org
SUMMARY:OB-Gyne Medical Mission
DESCRIPTION:The Rotary and Rotaract Club of San Pablo City in cooperation with Canossa Colleges San join hands for the #OBGyneMedicalMission that serves more than 100 beneficiaries in municipalities of San Pablo\, Alaminos and Caluan in Laguna.
URL:https://rotaryspc3820.org/event/ob-gyne-medical-mission/
LOCATION:Canossa Colleges\, 38GC+VV2\, Lakeside Park Subdivision\, Azcarate Cir\,\, San Pablo CIty\, Laguna\, 4000\, Philippines
CATEGORIES:medical mission
ATTACH;FMTTYPE=image/jpeg:https://rotaryspc3820.org/wp-content/uploads/2022/11/Obgyne.jpeg
END:VEVENT
BEGIN:VEVENT
DTSTART;TZID=UTC:20221011T100000
DTEND;TZID=UTC:20221011T120000
DTSTAMP:20260420T041731
CREATED:20221106T151327Z
LAST-MODIFIED:20221231T063601Z
UID:569-1665482400-1665489600@rotaryspc3820.org
SUMMARY:Courtesy call with Mayor Vic
DESCRIPTION:RC San Pablo City courtesy call from our Mayor to discuss our future project for the community. Also we take the opportunity to donate antibiotics for our “Alay Kalusugan” program for the LGU needs. Salamat Mayor Vic Amante and Mayora for your warm accommodation.
URL:https://rotaryspc3820.org/event/courtesy-call-with-mayor-vic/
LOCATION:San Pablo Highlands\, San Ignacio\, San Pablo City\, Laguna\, 4000\, Philippines
CATEGORIES:donation
ATTACH;FMTTYPE=image/jpeg:https://rotaryspc3820.org/wp-content/uploads/2022/11/rotary_courtesy.jpeg
END:VEVENT
END:VCALENDAR