BEGIN:VCALENDAR
VERSION:2.0
PRODID:-//Rotary Club of San Pablo City - ECPv6.2.7//NONSGML v1.0//EN
CALSCALE:GREGORIAN
METHOD:PUBLISH
X-ORIGINAL-URL:https://rotaryspc3820.org
X-WR-CALDESC:Events for Rotary Club of San Pablo City
REFRESH-INTERVAL;VALUE=DURATION:PT1H
X-Robots-Tag:noindex
X-PUBLISHED-TTL:PT1H
BEGIN:VTIMEZONE
TZID:UTC
BEGIN:STANDARD
TZOFFSETFROM:+0000
TZOFFSETTO:+0000
TZNAME:UTC
DTSTART:20230101T000000
END:STANDARD
END:VTIMEZONE
BEGIN:VEVENT
DTSTART;TZID=UTC:20230824T100000
DTEND;TZID=UTC:20230824T233000
DTSTAMP:20260420T220144
CREATED:20230824T031630Z
LAST-MODIFIED:20230903T033106Z
UID:2622-1692871200-1692919800@rotaryspc3820.org
SUMMARY:Brigada Eskwela 2023
DESCRIPTION:For this year’s Brigada Eskwela 2023\, The Rotary Club of San Pablo City prtner with San Joaquin Elementary School to be its beneficiary.\nThe school needs help to improve the schools facilities. Through the effort of the club\, we donated  Paints\, Fluorescent\, Hollow Blocks\, Sands\, Pipes and Cement\nto help the school’s administrator start the reconstruction of the needed facilities of the school.
URL:https://rotaryspc3820.org/event/brigada-eskwela-2023/
LOCATION:San Juaquin Elementary School\, San Juaquin\, San Pablo City\, Laguna\, 4000\, Philippines
CATEGORIES:donation,project
ATTACH;FMTTYPE=image/jpeg:https://rotaryspc3820.org/wp-content/uploads/2023/09/brigada.jpg
END:VEVENT
END:VCALENDAR