BEGIN:VCALENDAR
VERSION:2.0
PRODID:-//Rotary Club of San Pablo City - ECPv6.2.7//NONSGML v1.0//EN
CALSCALE:GREGORIAN
METHOD:PUBLISH
X-WR-CALNAME:Rotary Club of San Pablo City
X-ORIGINAL-URL:https://rotaryspc3820.org
X-WR-CALDESC:Events for Rotary Club of San Pablo City
REFRESH-INTERVAL;VALUE=DURATION:PT1H
X-Robots-Tag:noindex
X-PUBLISHED-TTL:PT1H
BEGIN:VTIMEZONE
TZID:UTC
BEGIN:STANDARD
TZOFFSETFROM:+0000
TZOFFSETTO:+0000
TZNAME:UTC
DTSTART:20230101T000000
END:STANDARD
END:VTIMEZONE
BEGIN:VEVENT
DTSTART;TZID=UTC:20230815T180000
DTEND;TZID=UTC:20230815T180000
DTSTAMP:20260421T012408
CREATED:20230815T025733Z
LAST-MODIFIED:20230903T031556Z
UID:2618-1692122400-1692122400@rotaryspc3820.org
SUMMARY:Launching of Rotary Club of San Pablo City's Rota-Kids
DESCRIPTION:On its 4th Rotary Club regular meeting on August 15\, 2023. All members are invited to join and be present at 88 Hot Spring Resort in Calamba Laguna\nfor the launching of Rota Kids. This aims to foster camaraderie among the children of our Rotary members. \nThis also will coincide with the birthday celebration for the month of August.
URL:https://rotaryspc3820.org/event/launching-of-rotary-club-of-san-pablo-citys-rota-kids/
LOCATION:88 Hotspring Resort\, Calamba\, Philippines
CATEGORIES:regular meeting
ATTACH;FMTTYPE=image/jpeg:https://rotaryspc3820.org/wp-content/uploads/2023/09/rotakids.jpg
END:VEVENT
END:VCALENDAR