BEGIN:VCALENDAR
VERSION:2.0
PRODID:-//Rotary Club of San Pablo City - ECPv6.2.7//NONSGML v1.0//EN
CALSCALE:GREGORIAN
METHOD:PUBLISH
X-WR-CALNAME:Rotary Club of San Pablo City
X-ORIGINAL-URL:http://rotaryspc3820.org
X-WR-CALDESC:Events for Rotary Club of San Pablo City
REFRESH-INTERVAL;VALUE=DURATION:PT1H
X-Robots-Tag:noindex
X-PUBLISHED-TTL:PT1H
BEGIN:VTIMEZONE
TZID:UTC
BEGIN:STANDARD
TZOFFSETFROM:+0000
TZOFFSETTO:+0000
TZNAME:UTC
DTSTART:20230101T000000
END:STANDARD
END:VTIMEZONE
BEGIN:VEVENT
DTSTART;TZID=UTC:20230810T093000
DTEND;TZID=UTC:20230810T140000
DTSTAMP:20260421T042707
CREATED:20230803T023853Z
LAST-MODIFIED:20230903T025533Z
UID:2614-1691659800-1691676000@rotaryspc3820.org
SUMMARY:Ngiti ng Pag-Asa Kick-off Project
DESCRIPTION:RC San Pablo City spearheaded by its Hope Creating President\, Doc. Aloha Señido will have its Kick-off project for the Rotary year 2023-24 entitle “Ngiti ng Pag-Asa”. The event will be the 7th year of its legacy project “Ngiti San Pablo\, Ngiti” a dental mission which was started as a global grant project and it continue up to the present. \nThe Placido Escudero Elementary School in Sta. Elena\, San Pablo City was one of this year’s beneficiaries with targeted 150 students to receive the following: \n\nService: Food Giving\nToothbrush drilling\nFluoride Application \, and\nNutrition Talk c/o City Nutrition Office
URL:http://rotaryspc3820.org/event/ngiti-ng-pag-asa-kick-off-project/
LOCATION:Sta. Elena Elementary School\, San Pablo City\, Laguna\, 4000\, Philippines
CATEGORIES:dental mission,donation,project
ATTACH;FMTTYPE=image/jpeg:http://rotaryspc3820.org/wp-content/uploads/2023/09/ngitingpag-asa.jpg
END:VEVENT
END:VCALENDAR